BEGIN:VCALENDAR
VERSION:2.0
PRODID:-//TYPO3/NONSGML News system (news)//EN
BEGIN:VEVENT
UID:news-30954@www.batzsurmer.fr
DTSTAMP:20260425T133001
DTSTART:20260501T090000
DTEND:20260501T170000
SUMMARY:​VIDE-GRENIERS par l’OGEC de l’école Sainte-Marie/Saint-Pierre
CATEGORIES:
DESCRIPTION:VIDE-GRENIERS Vendredi 1er mai de 9h à 17h École 
 Sainte-Marie/Saint-Pierre L’OGEC de l’école 
 Sainte-Marie/Saint-Pierre organise la 2e édition de son 
 vide-greniers. Venez nombreux chiner, vend...
LOCATION:2, rue de Trémondais 44740 Batz sur mer
END:VEVENT
END:VCALENDAR